BEGIN:VCALENDAR
VERSION:2.0
PRODID:-//Giggle Magazine - ECPv6.15.20//NONSGML v1.0//EN
CALSCALE:GREGORIAN
METHOD:PUBLISH
X-ORIGINAL-URL:https://www.gigglemagazine.com
X-WR-CALDESC:Events for Giggle Magazine
REFRESH-INTERVAL;VALUE=DURATION:PT1H
X-Robots-Tag:noindex
X-PUBLISHED-TTL:PT1H
BEGIN:VTIMEZONE
TZID:America/New_York
BEGIN:DAYLIGHT
TZOFFSETFROM:-0500
TZOFFSETTO:-0400
TZNAME:EDT
DTSTART:20230312T070000
END:DAYLIGHT
BEGIN:STANDARD
TZOFFSETFROM:-0400
TZOFFSETTO:-0500
TZNAME:EST
DTSTART:20231105T060000
END:STANDARD
BEGIN:DAYLIGHT
TZOFFSETFROM:-0500
TZOFFSETTO:-0400
TZNAME:EDT
DTSTART:20240310T070000
END:DAYLIGHT
BEGIN:STANDARD
TZOFFSETFROM:-0400
TZOFFSETTO:-0500
TZNAME:EST
DTSTART:20241103T060000
END:STANDARD
BEGIN:DAYLIGHT
TZOFFSETFROM:-0500
TZOFFSETTO:-0400
TZNAME:EDT
DTSTART:20250309T070000
END:DAYLIGHT
BEGIN:STANDARD
TZOFFSETFROM:-0400
TZOFFSETTO:-0500
TZNAME:EST
DTSTART:20251102T060000
END:STANDARD
BEGIN:DAYLIGHT
TZOFFSETFROM:-0500
TZOFFSETTO:-0400
TZNAME:EDT
DTSTART:20260308T070000
END:DAYLIGHT
BEGIN:STANDARD
TZOFFSETFROM:-0400
TZOFFSETTO:-0500
TZNAME:EST
DTSTART:20261101T060000
END:STANDARD
END:VTIMEZONE
BEGIN:VEVENT
DTSTART;TZID=America/New_York:20251009T100000
DTEND;TZID=America/New_York:20251009T120000
DTSTAMP:20260419T095206
CREATED:20250912T210433Z
LAST-MODIFIED:20250912T210433Z
UID:10007016-1760004000-1760011200@www.gigglemagazine.com
SUMMARY:"Community Conversation" Investing in Infrastructure: The Child Care Economy
DESCRIPTION:LET’S TALK ABOUT CHILD CARE:\nJoin business leaders\, parents\, policy experts\, and community stakeholders as we explore solutions to one of our region’s most pressing issues:\n-Child care access\, affordability\, and quality\n-Working families need support to thrive\n-Child care is a workforce and economic development \nEVENT HIGHLIGHTS:\n-Opening Keynote: Madeleine Thakur\, president and CEO of The Children’s Movement of Florida\n-Data Meets Policy Discussion: State and Local Perspective: Dr. Herman Knopf\, UF Anita Zucker Center & Mark Wilson\, Florida Chamber\n-Panel: Voices from the Field: Makayla Buchanan\n-Local Solutions & Commitments
URL:https://www.gigglemagazine.com/event/community-conversation-investing-in-infrastructure-the-child-care-economy/
LOCATION:Santa Fe College Charles L. Blount Center\, 530 W University Ave\, Gainesville\, FL\, 32601\, United States
ATTACH;FMTTYPE=image/png:https://gigglemagazine-images.s3.amazonaws.com/wp-content/uploads/2025/09/12121447/Community-Conversation.png
END:VEVENT
BEGIN:VEVENT
DTSTART;TZID=America/New_York:20250906T140000
DTEND;TZID=America/New_York:20250906T170000
DTSTAMP:20260419T095206
CREATED:20250811T142128Z
LAST-MODIFIED:20250811T142128Z
UID:10006998-1757167200-1757178000@www.gigglemagazine.com
SUMMARY:Cupcakes & Conversations: College Discoveries
DESCRIPTION:Middle and high school students and parents/guardians are invited to this all things college workshop! Attendees can connect with local college resources\, walk a day in the life of a college students and enter college prep giveaways. There will also be free resource kits\, snacks and\, of course\, cupcakes!
URL:https://www.gigglemagazine.com/event/cupcakes-conversations-college-discoveries-2/
LOCATION:Santa Fe College Charles L. Blount Center\, 530 W University Ave\, Gainesville\, FL\, 32601\, United States
ATTACH;FMTTYPE=image/jpeg:https://gigglemagazine-images.s3.amazonaws.com/wp-content/uploads/2025/08/11102103/https___cdn.evbuc_.com_images_995873413_162976264527_1_original.jpg
END:VEVENT
BEGIN:VEVENT
DTSTART;TZID=America/New_York:20250222T100000
DTEND;TZID=America/New_York:20250222T120000
DTSTAMP:20260419T095206
CREATED:20250204T140400Z
LAST-MODIFIED:20250204T140414Z
UID:10004833-1740218400-1740225600@www.gigglemagazine.com
SUMMARY:Journey to Homeownership Seminar
DESCRIPTION:Embark on your Journey to Homeownership with us! This isn’t just a seminar—it’s an experience designed to guide you through every step of owning your dream home. \nUpon arrival\, you’ll receive your Homeownership Passport and walk our interactive road-like track\, making stops to engage directly with industry experts. From mortgages to down payments\, credit improvement to market insights\, each station is packed with valuable information and tips tailored to help you succeed. \nWhether you’re a first-time buyer or ready to upgrade\, this event is your chance to get insider knowledge\, ask questions\, and take actionable steps toward your future. Don’t miss this exciting opportunity to start your journey to homeownership with confidence!
URL:https://www.gigglemagazine.com/event/journey-to-homeownership-seminar/
LOCATION:Santa Fe College Charles L. Blount Center\, 530 W University Ave\, Gainesville\, FL\, 32601\, United States
ATTACH;FMTTYPE=image/png:https://gigglemagazine-images.s3.amazonaws.com/wp-content/uploads/2025/02/03143127/Journey-to-Homeownership-Eventbrite-Cover.png
ORGANIZER;CN="Neighborhood Housing &amp%3B Development Corporation":MAILTO:abrown@gnhdc.org
END:VEVENT
BEGIN:VEVENT
DTSTART;TZID=America/New_York:20240824T140000
DTEND;TZID=America/New_York:20240824T170000
DTSTAMP:20260419T095206
CREATED:20240717T135422Z
LAST-MODIFIED:20240717T135422Z
UID:10004171-1724508000-1724518800@www.gigglemagazine.com
SUMMARY:Cupcakes & Conversations: College Discoveries
DESCRIPTION:At the 2024 Cupcakes & Conversations: College Discoveries\, middle and high school students and parents/guardians can enjoy an all-things-college workshop! Attendees can connect with local college resources\, walk a day-in-the-life of a college student and enter college prep giveaways. There will also be free resource kits\, snacks and\, of course\, cupcakes! Register in advance at https://dreamonpurpose.org/events.
URL:https://www.gigglemagazine.com/event/cupcakes-conversations-college-discoveries/
LOCATION:Santa Fe College Charles L. Blount Center\, 530 W University Ave\, Gainesville\, FL\, 32601\, United States
ATTACH;FMTTYPE=image/png:https://gigglemagazine-images.s3.amazonaws.com/wp-content/uploads/2024/07/17095341/Screen-Shot-2024-07-17-at-9.53.35-AM-e1721224447627.png
END:VEVENT
END:VCALENDAR